BEGIN:VCALENDAR
VERSION:2.0
PRODID:-//Lake County Ohio Bar - ECPv6.15.20//NONSGML v1.0//EN
CALSCALE:GREGORIAN
METHOD:PUBLISH
X-ORIGINAL-URL:https://www.lakecountyohiobar.com
X-WR-CALDESC:Events for Lake County Ohio Bar
REFRESH-INTERVAL;VALUE=DURATION:PT1H
X-Robots-Tag:noindex
X-PUBLISHED-TTL:PT1H
BEGIN:VTIMEZONE
TZID:America/New_York
BEGIN:DAYLIGHT
TZOFFSETFROM:-0500
TZOFFSETTO:-0400
TZNAME:EDT
DTSTART:20240310T070000
END:DAYLIGHT
BEGIN:STANDARD
TZOFFSETFROM:-0400
TZOFFSETTO:-0500
TZNAME:EST
DTSTART:20241103T060000
END:STANDARD
BEGIN:DAYLIGHT
TZOFFSETFROM:-0500
TZOFFSETTO:-0400
TZNAME:EDT
DTSTART:20250309T070000
END:DAYLIGHT
BEGIN:STANDARD
TZOFFSETFROM:-0400
TZOFFSETTO:-0500
TZNAME:EST
DTSTART:20251102T060000
END:STANDARD
BEGIN:DAYLIGHT
TZOFFSETFROM:-0500
TZOFFSETTO:-0400
TZNAME:EDT
DTSTART:20260308T070000
END:DAYLIGHT
BEGIN:STANDARD
TZOFFSETFROM:-0400
TZOFFSETTO:-0500
TZNAME:EST
DTSTART:20261101T060000
END:STANDARD
END:VTIMEZONE
BEGIN:VEVENT
DTSTART;TZID=America/New_York:20251025T130000
DTEND;TZID=America/New_York:20251025T160000
DTSTAMP:20260421T113830
CREATED:20250710T152800Z
LAST-MODIFIED:20251015T194610Z
UID:1618-1761397200-1761408000@www.lakecountyohiobar.com
SUMMARY:LCBA Annual Clam Bake @ Fossil Creek Winery
DESCRIPTION:Family and guests are welcome to attend the clambake\, live music\, and a family-friendly event!! \nPlease RSVP by October 22\, 2025. \n$65 per person includes: a standard clambake\, assorted desserts\, and live music. \nContact the LCBA for vegetarian and children’s options.
URL:https://www.lakecountyohiobar.com/event/lcba-annual-clam-bake/
LOCATION:Fossil Creek Winery\, 5807 South Madison Rd.\, Madison\, OH\, 44057\, United States
CATEGORIES:Social
ATTACH;FMTTYPE=image/png:https://www.lakecountyohiobar.com/wp-content/uploads/2025/07/2025-clambake-10.25.2025.png
ORGANIZER;CN="Lake County Bar Association":MAILTO:barassoced@lakecountyohio.gov
END:VEVENT
END:VCALENDAR