BEGIN:VCALENDAR
VERSION:2.0
PRODID:-//Lake County Ohio Bar - ECPv6.15.20//NONSGML v1.0//EN
CALSCALE:GREGORIAN
METHOD:PUBLISH
X-WR-CALNAME:Lake County Ohio Bar
X-ORIGINAL-URL:https://www.lakecountyohiobar.com
X-WR-CALDESC:Events for Lake County Ohio Bar
REFRESH-INTERVAL;VALUE=DURATION:PT1H
X-Robots-Tag:noindex
X-PUBLISHED-TTL:PT1H
BEGIN:VTIMEZONE
TZID:America/New_York
BEGIN:DAYLIGHT
TZOFFSETFROM:-0500
TZOFFSETTO:-0400
TZNAME:EDT
DTSTART:20240310T070000
END:DAYLIGHT
BEGIN:STANDARD
TZOFFSETFROM:-0400
TZOFFSETTO:-0500
TZNAME:EST
DTSTART:20241103T060000
END:STANDARD
BEGIN:DAYLIGHT
TZOFFSETFROM:-0500
TZOFFSETTO:-0400
TZNAME:EDT
DTSTART:20250309T070000
END:DAYLIGHT
BEGIN:STANDARD
TZOFFSETFROM:-0400
TZOFFSETTO:-0500
TZNAME:EST
DTSTART:20251102T060000
END:STANDARD
BEGIN:DAYLIGHT
TZOFFSETFROM:-0500
TZOFFSETTO:-0400
TZNAME:EDT
DTSTART:20260308T070000
END:DAYLIGHT
BEGIN:STANDARD
TZOFFSETFROM:-0400
TZOFFSETTO:-0500
TZNAME:EST
DTSTART:20261101T060000
END:STANDARD
END:VTIMEZONE
BEGIN:VEVENT
DTSTART;TZID=America/New_York:20251121T080000
DTEND;TZID=America/New_York:20251121T160000
DTSTAMP:20260421T084746
CREATED:20251104T211629Z
LAST-MODIFIED:20251105T132045Z
UID:1802-1763712000-1763740800@www.lakecountyohiobar.com
SUMMARY:LCBA Family Law Food Drive
DESCRIPTION:The LCBA Family Law Committee is hosting a food drive at United Way of Lake County on Friday\, November 21st\, 2025. \nPlease join Anna Parise and Darya Klammer for a cup of coffee if you choose to drop off essential items for our Lake County residents. \nDrop-off Time: Friday\,11/21\, 8am-4pm \nAddress: 9285 Progress Pkwy\, Mentor\, OH 44060 \nOr\, if you have a tight schedule that day\, please donate. \nIf you want to make a day and attend the GAL Seminar\, we welcome your attendance.
URL:https://www.lakecountyohiobar.com/event/lcba-family-law-food-drive/
LOCATION:United Way of Lake County\, 9285 Progress Pkwy\, Mentor\, OH\, 44060\, United States
CATEGORIES:Social
ATTACH;FMTTYPE=image/jpeg:https://www.lakecountyohiobar.com/wp-content/uploads/2025/11/lcba-family-law-food-drive-version.jpg
ORGANIZER;CN="Lake County Bar Association":MAILTO:barassoced@lakecountyohio.gov
END:VEVENT
END:VCALENDAR