BEGIN:VCALENDAR
VERSION:2.0
PRODID:-//Lake County Ohio Bar - ECPv6.15.20//NONSGML v1.0//EN
CALSCALE:GREGORIAN
METHOD:PUBLISH
X-WR-CALNAME:Lake County Ohio Bar
X-ORIGINAL-URL:https://www.lakecountyohiobar.com
X-WR-CALDESC:Events for Lake County Ohio Bar
REFRESH-INTERVAL;VALUE=DURATION:PT1H
X-Robots-Tag:noindex
X-PUBLISHED-TTL:PT1H
BEGIN:VTIMEZONE
TZID:America/New_York
BEGIN:DAYLIGHT
TZOFFSETFROM:-0500
TZOFFSETTO:-0400
TZNAME:EDT
DTSTART:20240310T070000
END:DAYLIGHT
BEGIN:STANDARD
TZOFFSETFROM:-0400
TZOFFSETTO:-0500
TZNAME:EST
DTSTART:20241103T060000
END:STANDARD
BEGIN:DAYLIGHT
TZOFFSETFROM:-0500
TZOFFSETTO:-0400
TZNAME:EDT
DTSTART:20250309T070000
END:DAYLIGHT
BEGIN:STANDARD
TZOFFSETFROM:-0400
TZOFFSETTO:-0500
TZNAME:EST
DTSTART:20251102T060000
END:STANDARD
BEGIN:DAYLIGHT
TZOFFSETFROM:-0500
TZOFFSETTO:-0400
TZNAME:EDT
DTSTART:20260308T070000
END:DAYLIGHT
BEGIN:STANDARD
TZOFFSETFROM:-0400
TZOFFSETTO:-0500
TZNAME:EST
DTSTART:20261101T060000
END:STANDARD
END:VTIMEZONE
BEGIN:VEVENT
DTSTART;VALUE=DATE:20250822
DTEND;VALUE=DATE:20250823
DTSTAMP:20260421T125522
CREATED:20250710T140244Z
LAST-MODIFIED:20260401T193113Z
UID:1595-1755820800-1755907199@www.lakecountyohiobar.com
SUMMARY:2025 Annual Golf Outing at St. Denis Golf Club
DESCRIPTION:Registration / Continental Breakfast: 8:30am \nTee Off: 10:00am – Shotgun Start – Scramble Format \nDinner: 4:00pm – Cash Bar \nCost: $135.00 per golfer – Includes: Door Prize\, breakfast\, lunch\, 18 holes of golf\, cart & dinner \nDinner Only: $35.00 \nDinner will include a New York strip steak\, pasta\, garden salad\, vegetables & dinner rolls. \nGreat Prizes and Hole-In-One Contest \nGifts to Every Golfer \nRaffle Prizes & Skill Prizes for Men & Women!! \nContact the LCBA Office for Registration Information and Hole Sponsorship Information. \n 
URL:https://www.lakecountyohiobar.com/event/lcba-annual-golf-outing-at-st-denis-golf-club/
LOCATION:St. Denis Golf Club\, 10660 Chardon Road\, Chardon\, OH\, 44024\, United States
CATEGORIES:Social
ORGANIZER;CN="Lake County Bar Association":MAILTO:barassoced@lakecountyohio.gov
END:VEVENT
END:VCALENDAR